BEGIN:VCALENDAR
VERSION:2.0
PRODID:-//Australian and New Zealand Society of Respiratory Science Ltd (ANZSRS) - ECPv6.15.11//NONSGML v1.0//EN
CALSCALE:GREGORIAN
METHOD:PUBLISH
X-WR-CALNAME:Australian and New Zealand Society of Respiratory Science Ltd (ANZSRS)
X-ORIGINAL-URL:https://anzsrs-stg.connexionpoint.com.au
X-WR-CALDESC:Events for Australian and New Zealand Society of Respiratory Science Ltd (ANZSRS)
REFRESH-INTERVAL;VALUE=DURATION:PT1H
X-Robots-Tag:noindex
X-PUBLISHED-TTL:PT1H
BEGIN:VTIMEZONE
TZID:Australia/Melbourne
BEGIN:STANDARD
TZOFFSETFROM:+1100
TZOFFSETTO:+1000
TZNAME:AEST
DTSTART:20240406T160000
END:STANDARD
BEGIN:DAYLIGHT
TZOFFSETFROM:+1000
TZOFFSETTO:+1100
TZNAME:AEDT
DTSTART:20241005T160000
END:DAYLIGHT
BEGIN:STANDARD
TZOFFSETFROM:+1100
TZOFFSETTO:+1000
TZNAME:AEST
DTSTART:20250405T160000
END:STANDARD
BEGIN:DAYLIGHT
TZOFFSETFROM:+1000
TZOFFSETTO:+1100
TZNAME:AEDT
DTSTART:20251004T160000
END:DAYLIGHT
BEGIN:STANDARD
TZOFFSETFROM:+1100
TZOFFSETTO:+1000
TZNAME:AEST
DTSTART:20260404T160000
END:STANDARD
BEGIN:DAYLIGHT
TZOFFSETFROM:+1000
TZOFFSETTO:+1100
TZNAME:AEDT
DTSTART:20261003T160000
END:DAYLIGHT
END:VTIMEZONE
BEGIN:VTIMEZONE
TZID:Australia/Brisbane
BEGIN:STANDARD
TZOFFSETFROM:+1000
TZOFFSETTO:+1000
TZNAME:AEST
DTSTART:20240101T000000
END:STANDARD
END:VTIMEZONE
BEGIN:VEVENT
DTSTART;TZID=Australia/Melbourne:20250901T170000
DTEND;TZID=Australia/Melbourne:20250901T193000
DTSTAMP:20260423T201033
CREATED:20250730T110145Z
LAST-MODIFIED:20250730T110145Z
UID:20091-1756746000-1756755000@anzsrs-stg.connexionpoint.com.au
SUMMARY:VIC/TAS Regional Meeting Monday 1st September
DESCRIPTION:Our next regional meeting! \nSave the date: Monday\, 1st September \nWe’re looking forward to reconnecting in person and hope to see many of you there. Further details and location please check the email from Regional chairs.
URL:https://anzsrs-stg.connexionpoint.com.au/event/vic-tas-regional-meeting-monday-1st-september/
CATEGORIES:VIC/TAS Branch Meetings
ATTACH;FMTTYPE=image/png:https://anzsrs-stg.connexionpoint.com.au/wp-content/uploads/2023/11/victoria_tasmania.png
ORGANIZER;CN="VIC/TAS Regional chairs":MAILTO:victas@anzsrs-stg.connexionpoint.com.au
END:VEVENT
BEGIN:VEVENT
DTSTART;TZID=Australia/Brisbane:20250903T173000
DTEND;TZID=Australia/Brisbane:20250903T190000
DTSTAMP:20260423T201033
CREATED:20250223T105740Z
LAST-MODIFIED:20250223T112541Z
UID:19103-1756920600-1756926000@anzsrs-stg.connexionpoint.com.au
SUMMARY:QLD Branch Meeting - 3rd September 2025
DESCRIPTION:ANZSRS QLD Branch Meeting \n3rd September 2025 \nMain Presentation: QRS \nScientist Presentation: Rockhampton \nStart time: 5:30pm \nMeeting location and zoom details see email from Qld Regional Chair
URL:https://anzsrs-stg.connexionpoint.com.au/event/qld-branch-meeting-14th-may-2025/
CATEGORIES:QLD Branch Meetings
ATTACH;FMTTYPE=image/png:https://anzsrs-stg.connexionpoint.com.au/wp-content/uploads/2023/11/icon4.png
ORGANIZER;CN="QLD Regional Chairs":MAILTO:qld@anzsrs-stg.connexionpoint.com.au
END:VEVENT
BEGIN:VEVENT
DTSTART;TZID=Australia/Melbourne:20250910T173000
DTEND;TZID=Australia/Melbourne:20250910T193000
DTSTAMP:20260423T201033
CREATED:20250330T110708Z
LAST-MODIFIED:20250330T111211Z
UID:19302-1757525400-1757532600@anzsrs-stg.connexionpoint.com.au
SUMMARY:SA/NT Branch Meeting - 10th September 2025
DESCRIPTION:SA/NT Branch Meeting \nStart time: TBA \nMeeting location and other information\, please see email from Regional Chair
URL:https://anzsrs-stg.connexionpoint.com.au/event/sa-nt-branch-meeting-september-2025/
CATEGORIES:ANZSRS Branch Meetings
ATTACH;FMTTYPE=image/png:https://anzsrs-stg.connexionpoint.com.au/wp-content/uploads/2023/11/SAandNT.png
ORGANIZER;CN="SA/NT Regional chairs":MAILTO:sant@anzsrs-stg.connexionpoint.com.au
END:VEVENT
BEGIN:VEVENT
DTSTART;TZID=Australia/Melbourne:20250912T173000
DTEND;TZID=Australia/Melbourne:20250912T173000
DTSTAMP:20260423T201033
CREATED:20250228T060002Z
LAST-MODIFIED:20250228T060002Z
UID:19198-1757698200-1757698200@anzsrs-stg.connexionpoint.com.au
SUMMARY:WA Branch Meeting - September 2025
DESCRIPTION:WA September Branch Meeting \nStart time & date: TBA \nMeeting location and other information\, please see email from Regional Chair
URL:https://anzsrs-stg.connexionpoint.com.au/event/wa-branch-meeting-september-2025/
CATEGORIES:WA Branch Meetings
ATTACH;FMTTYPE=image/png:https://anzsrs-stg.connexionpoint.com.au/wp-content/uploads/2023/11/icon7.png
ORGANIZER;CN="WA Regional chairs":MAILTO:wa@anzsrs-stg.connexionpoint.com.au
END:VEVENT
BEGIN:VEVENT
DTSTART;VALUE=DATE:20250917
DTEND;VALUE=DATE:20250920
DTSTAMP:20260423T201033
CREATED:20250129T061402Z
LAST-MODIFIED:20250129T061402Z
UID:19060-1758067200-1758326399@anzsrs-stg.connexionpoint.com.au
SUMMARY:TSANZ | ANZSRS NZ Branch Meeting 2025
DESCRIPTION:TSANZ | ANZSRS NZ Branch Meeting 2025 \n Napier War Memorial Centre | 17-19 September 2025 \nWe look forward to seeing you there. \nhttps://www.nzrespiratoryasm.co.nz/ \nKEY DATES \nAbstract Submissions Open\n1 April 2025\nRegistration Open\n13 May 2025\nAbstract Submission Close\n27 July 2025\nEarly Bird Registration Close\n10 August 2025
URL:https://anzsrs-stg.connexionpoint.com.au/event/tsanz-anzsrs-nz-branch-meeting-2025/
LOCATION:Napier War Memoral Centre\, 48 Marine Parade\, Bluff Hill\, Napier\, 4110\, New Zealand
CATEGORIES:TSANZ/ANZSRS NZ Branch Meeting
ATTACH;FMTTYPE=image/png:https://anzsrs-stg.connexionpoint.com.au/wp-content/uploads/2025/01/nz-asm.png
END:VEVENT
BEGIN:VEVENT
DTSTART;TZID=Australia/Melbourne:20250925T173000
DTEND;TZID=Australia/Melbourne:20250925T200000
DTSTAMP:20260423T201033
CREATED:20250718T041858Z
LAST-MODIFIED:20250718T041858Z
UID:19938-1758821400-1758830400@anzsrs-stg.connexionpoint.com.au
SUMMARY:NSW/ACT Branch Meeting - Thursday 25th September 2025
DESCRIPTION:ANZSRS NSW/ACT Branch Meeting \nThursday\, 25th September \n\nStart time: TBA \nVenue will be advised closer to the date
URL:https://anzsrs-stg.connexionpoint.com.au/event/nsw-act-branch-meeting-thursday-25th-september-2025/
CATEGORIES:ANZSRS Branch Meetings
ATTACH;FMTTYPE=image/png:https://anzsrs-stg.connexionpoint.com.au/wp-content/uploads/2023/11/NSW-and-ACT-1.png
ORGANIZER;CN="NSW/ACT Regional chairs":MAILTO:nswact@anzsrs-stg.connexionpoint.com.au
END:VEVENT
END:VCALENDAR