BEGIN:VCALENDAR
VERSION:2.0
PRODID:-//Australian and New Zealand Society of Respiratory Science Ltd (ANZSRS) - ECPv6.15.11//NONSGML v1.0//EN
CALSCALE:GREGORIAN
METHOD:PUBLISH
X-WR-CALNAME:Australian and New Zealand Society of Respiratory Science Ltd (ANZSRS)
X-ORIGINAL-URL:https://anzsrs-stg.connexionpoint.com.au
X-WR-CALDESC:Events for Australian and New Zealand Society of Respiratory Science Ltd (ANZSRS)
REFRESH-INTERVAL;VALUE=DURATION:PT1H
X-Robots-Tag:noindex
X-PUBLISHED-TTL:PT1H
BEGIN:VTIMEZONE
TZID:Australia/Melbourne
BEGIN:STANDARD
TZOFFSETFROM:+1100
TZOFFSETTO:+1000
TZNAME:AEST
DTSTART:20240406T160000
END:STANDARD
BEGIN:DAYLIGHT
TZOFFSETFROM:+1000
TZOFFSETTO:+1100
TZNAME:AEDT
DTSTART:20241005T160000
END:DAYLIGHT
BEGIN:STANDARD
TZOFFSETFROM:+1100
TZOFFSETTO:+1000
TZNAME:AEST
DTSTART:20250405T160000
END:STANDARD
BEGIN:DAYLIGHT
TZOFFSETFROM:+1000
TZOFFSETTO:+1100
TZNAME:AEDT
DTSTART:20251004T160000
END:DAYLIGHT
BEGIN:STANDARD
TZOFFSETFROM:+1100
TZOFFSETTO:+1000
TZNAME:AEST
DTSTART:20260404T160000
END:STANDARD
BEGIN:DAYLIGHT
TZOFFSETFROM:+1000
TZOFFSETTO:+1100
TZNAME:AEDT
DTSTART:20261003T160000
END:DAYLIGHT
END:VTIMEZONE
BEGIN:VTIMEZONE
TZID:Pacific/Auckland
BEGIN:STANDARD
TZOFFSETFROM:+1300
TZOFFSETTO:+1200
TZNAME:NZST
DTSTART:20240406T140000
END:STANDARD
BEGIN:DAYLIGHT
TZOFFSETFROM:+1200
TZOFFSETTO:+1300
TZNAME:NZDT
DTSTART:20240928T140000
END:DAYLIGHT
BEGIN:STANDARD
TZOFFSETFROM:+1300
TZOFFSETTO:+1200
TZNAME:NZST
DTSTART:20250405T140000
END:STANDARD
BEGIN:DAYLIGHT
TZOFFSETFROM:+1200
TZOFFSETTO:+1300
TZNAME:NZDT
DTSTART:20250927T140000
END:DAYLIGHT
BEGIN:STANDARD
TZOFFSETFROM:+1300
TZOFFSETTO:+1200
TZNAME:NZST
DTSTART:20260404T140000
END:STANDARD
BEGIN:DAYLIGHT
TZOFFSETFROM:+1200
TZOFFSETTO:+1300
TZNAME:NZDT
DTSTART:20260926T140000
END:DAYLIGHT
END:VTIMEZONE
BEGIN:VEVENT
DTSTART;TZID=Australia/Melbourne:20250815T173000
DTEND;TZID=Australia/Melbourne:20250815T203000
DTSTAMP:20260423T213004
CREATED:20250228T055830Z
LAST-MODIFIED:20250228T055830Z
UID:19196-1755279000-1755289800@anzsrs-stg.connexionpoint.com.au
SUMMARY:WA Branch Meeting - August 2025
DESCRIPTION:WA April Branch Meeting \nStart time & date: TBA \nMeeting location and other information\, please see email from Regional Chair
URL:https://anzsrs-stg.connexionpoint.com.au/event/wa-branch-meeting-august-2025/
CATEGORIES:WA Branch Meetings
ATTACH;FMTTYPE=image/png:https://anzsrs-stg.connexionpoint.com.au/wp-content/uploads/2023/11/icon7.png
ORGANIZER;CN="WA Regional chairs":MAILTO:wa@anzsrs-stg.connexionpoint.com.au
END:VEVENT
BEGIN:VEVENT
DTSTART;TZID=Pacific/Auckland:20250829T140000
DTEND;TZID=Pacific/Auckland:20250829T160000
DTSTAMP:20260423T213004
CREATED:20250730T105623Z
LAST-MODIFIED:20250730T105623Z
UID:20089-1756476000-1756483200@anzsrs-stg.connexionpoint.com.au
SUMMARY:CRFS Tutorial 1
DESCRIPTION:CRFS Q&A Session 1\nDate/Time: August 29th 2025 (2pm – 4pm NZ time)\nSubmit questions by Friday the 22nd August.\n\n\nThe tutorials will take the form of a Q&A session with questions to be submitted no later than 7 days prior to tutorial.  The utility of the session will purely be based on the submission of these questions from registered exam candidates only so please send these to: crfs@anzsrs-stg.connexionpoint.com.au \nAll questions must be in the format: \n\nTopic\nSub-Topic (if applicable)\nQuestion\nAssociated practice exam question. (Optional)\n\nA maximum of three questions may be submitted by any one candidate prior to each tutorial session. If a high volume of questions is received the exam coordinator will prioritise questions which have not been answered in previous tutorials. \nPlease check your email for zoom meeting details. \nTime: 2pm-4pm NZ time.
URL:https://anzsrs-stg.connexionpoint.com.au/event/crfs-tutorial-1/
CATEGORIES:CRFS
ATTACH;FMTTYPE=image/png:https://anzsrs-stg.connexionpoint.com.au/wp-content/uploads/2024/03/Screenshot-2024-03-13-at-9.33.42 pm-e1710330520591.png
ORGANIZER;CN="CRFS":MAILTO:crfs@anzsrs-stg.connexionpoint.com.au
END:VEVENT
END:VCALENDAR