BEGIN:VCALENDAR
VERSION:2.0
PRODID:-//Australian and New Zealand Society of Respiratory Science Ltd (ANZSRS) - ECPv6.15.11//NONSGML v1.0//EN
CALSCALE:GREGORIAN
METHOD:PUBLISH
X-WR-CALNAME:Australian and New Zealand Society of Respiratory Science Ltd (ANZSRS)
X-ORIGINAL-URL:https://anzsrs-stg.connexionpoint.com.au
X-WR-CALDESC:Events for Australian and New Zealand Society of Respiratory Science Ltd (ANZSRS)
REFRESH-INTERVAL;VALUE=DURATION:PT1H
X-Robots-Tag:noindex
X-PUBLISHED-TTL:PT1H
BEGIN:VTIMEZONE
TZID:Australia/Melbourne
BEGIN:STANDARD
TZOFFSETFROM:+1100
TZOFFSETTO:+1000
TZNAME:AEST
DTSTART:20240406T160000
END:STANDARD
BEGIN:DAYLIGHT
TZOFFSETFROM:+1000
TZOFFSETTO:+1100
TZNAME:AEDT
DTSTART:20241005T160000
END:DAYLIGHT
BEGIN:STANDARD
TZOFFSETFROM:+1100
TZOFFSETTO:+1000
TZNAME:AEST
DTSTART:20250405T160000
END:STANDARD
BEGIN:DAYLIGHT
TZOFFSETFROM:+1000
TZOFFSETTO:+1100
TZNAME:AEDT
DTSTART:20251004T160000
END:DAYLIGHT
BEGIN:STANDARD
TZOFFSETFROM:+1100
TZOFFSETTO:+1000
TZNAME:AEST
DTSTART:20260404T160000
END:STANDARD
BEGIN:DAYLIGHT
TZOFFSETFROM:+1000
TZOFFSETTO:+1100
TZNAME:AEDT
DTSTART:20261003T160000
END:DAYLIGHT
END:VTIMEZONE
BEGIN:VTIMEZONE
TZID:Australia/Brisbane
BEGIN:STANDARD
TZOFFSETFROM:+1000
TZOFFSETTO:+1000
TZNAME:AEST
DTSTART:20240101T000000
END:STANDARD
END:VTIMEZONE
BEGIN:VEVENT
DTSTART;TZID=Australia/Melbourne:20250711T173000
DTEND;TZID=Australia/Melbourne:20250711T200000
DTSTAMP:20260423T230716
CREATED:20250228T055658Z
LAST-MODIFIED:20250228T055658Z
UID:19194-1752255000-1752264000@anzsrs-stg.connexionpoint.com.au
SUMMARY:WA Branch Meeting - July 2025
DESCRIPTION:WA July Branch Meeting \nStart time & date: TBA \nMeeting location and other information\, please see email from Regional Chair
URL:https://anzsrs-stg.connexionpoint.com.au/event/wa-branch-meeting-july-2025/
CATEGORIES:WA Branch Meetings
ATTACH;FMTTYPE=image/png:https://anzsrs-stg.connexionpoint.com.au/wp-content/uploads/2023/11/icon7.png
ORGANIZER;CN="WA Regional chairs":MAILTO:wa@anzsrs-stg.connexionpoint.com.au
END:VEVENT
BEGIN:VEVENT
DTSTART;TZID=Australia/Melbourne:20250714T080000
DTEND;TZID=Australia/Melbourne:20250714T170000
DTSTAMP:20260423T230716
CREATED:20250512T011907Z
LAST-MODIFIED:20250512T012026Z
UID:19421-1752480000-1752512400@anzsrs-stg.connexionpoint.com.au
SUMMARY:World Bronchiectasis Conference\, 2025
DESCRIPTION:World Bronchiectasis Conference 2025 \nThe 8th World Bronchiectasis Conference\, which is scheduled to take place from July 14 to July 17\, 2025\, is in Brisbane\, Australia! \nFurther information on this Conference is available on the following website: https://www.world-bronchiectasis-conference.org/2025/
URL:https://anzsrs-stg.connexionpoint.com.au/event/world-bronchiectasis-conference-2025/
ATTACH;FMTTYPE=image/png:https://anzsrs-stg.connexionpoint.com.au/wp-content/uploads/2025/05/WB-2025.png
END:VEVENT
BEGIN:VEVENT
DTSTART;TZID=Australia/Brisbane:20250718T173000
DTEND;TZID=Australia/Brisbane:20250718T200000
DTSTAMP:20260423T230716
CREATED:20250223T110212Z
LAST-MODIFIED:20250223T110212Z
UID:19105-1752859800-1752868800@anzsrs-stg.connexionpoint.com.au
SUMMARY:QLD Branch Meeting - Friday 18th July 2025
DESCRIPTION:ANZSRS QLD Branch Meeting \nTrivia Night \nFriday 18th July 2025 \n  \nStart time: TBA \nVenue will be advised closer to the date
URL:https://anzsrs-stg.connexionpoint.com.au/event/qld-branch-meeting-friday-18th-july-2025/
CATEGORIES:QLD Branch Meetings
ATTACH;FMTTYPE=image/png:https://anzsrs-stg.connexionpoint.com.au/wp-content/uploads/2023/11/icon4.png
END:VEVENT
END:VCALENDAR