BEGIN:VCALENDAR
VERSION:2.0
PRODID:-//Australian and New Zealand Society of Respiratory Science Ltd (ANZSRS) - ECPv6.15.11//NONSGML v1.0//EN
CALSCALE:GREGORIAN
METHOD:PUBLISH
X-ORIGINAL-URL:https://anzsrs-stg.connexionpoint.com.au
X-WR-CALDESC:Events for Australian and New Zealand Society of Respiratory Science Ltd (ANZSRS)
REFRESH-INTERVAL;VALUE=DURATION:PT1H
X-Robots-Tag:noindex
X-PUBLISHED-TTL:PT1H
BEGIN:VTIMEZONE
TZID:Australia/Melbourne
BEGIN:STANDARD
TZOFFSETFROM:+1100
TZOFFSETTO:+1000
TZNAME:AEST
DTSTART:20240406T160000
END:STANDARD
BEGIN:DAYLIGHT
TZOFFSETFROM:+1000
TZOFFSETTO:+1100
TZNAME:AEDT
DTSTART:20241005T160000
END:DAYLIGHT
BEGIN:STANDARD
TZOFFSETFROM:+1100
TZOFFSETTO:+1000
TZNAME:AEST
DTSTART:20250405T160000
END:STANDARD
BEGIN:DAYLIGHT
TZOFFSETFROM:+1000
TZOFFSETTO:+1100
TZNAME:AEDT
DTSTART:20251004T160000
END:DAYLIGHT
BEGIN:STANDARD
TZOFFSETFROM:+1100
TZOFFSETTO:+1000
TZNAME:AEST
DTSTART:20260404T160000
END:STANDARD
BEGIN:DAYLIGHT
TZOFFSETFROM:+1000
TZOFFSETTO:+1100
TZNAME:AEDT
DTSTART:20261003T160000
END:DAYLIGHT
END:VTIMEZONE
BEGIN:VEVENT
DTSTART;TZID=Australia/Melbourne:20250611T171500
DTEND;TZID=Australia/Melbourne:20250611T190000
DTSTAMP:20260424T004529
CREATED:20250228T055319Z
LAST-MODIFIED:20250518T222312Z
UID:19189-1749662100-1749668400@anzsrs-stg.connexionpoint.com.au
SUMMARY:WA Branch Meeting - June 2025
DESCRIPTION:WA June Branch Meeting \nDate: Wednesday 11th June 2025 \nTime: 5.15pm arrival for food\, presentation from 5.45pm to 7pm \nPlease RSVP by COB Wednesday 4th June 2025 to wa@anzsrs-stg.connexionpoint.com.au to confirm attendance and dietary requirements (for catering purposes). \nMeeting location and other information\, please see email from Regional Chair
URL:https://anzsrs-stg.connexionpoint.com.au/event/wa-branch-meeting-june/
CATEGORIES:WA Branch Meetings
ATTACH;FMTTYPE=image/png:https://anzsrs-stg.connexionpoint.com.au/wp-content/uploads/2023/11/icon7.png
ORGANIZER;CN="WA Regional chairs":MAILTO:wa@anzsrs-stg.connexionpoint.com.au
END:VEVENT
BEGIN:VEVENT
DTSTART;TZID=Australia/Melbourne:20250616T180000
DTEND;TZID=Australia/Melbourne:20250616T200000
DTSTAMP:20260424T004529
CREATED:20250518T221938Z
LAST-MODIFIED:20250518T221938Z
UID:19461-1750096800-1750104000@anzsrs-stg.connexionpoint.com.au
SUMMARY:VIC/TAS June branch meeting
DESCRIPTION:VIC/TAS June Branch Meeting \nStart time & date: Monday 16th June 2025 at 6pm \nMeeting location and other information\, please see email from Regional Chair
URL:https://anzsrs-stg.connexionpoint.com.au/event/vic-tas-june-branch-meeting/
CATEGORIES:VIC/TAS Branch Meetings
ATTACH;FMTTYPE=image/png:https://anzsrs-stg.connexionpoint.com.au/wp-content/uploads/2023/11/victoria_tasmania.png
ORGANIZER;CN="VIC/TAS Regional chairs":MAILTO:victas@anzsrs-stg.connexionpoint.com.au
END:VEVENT
END:VCALENDAR