BEGIN:VCALENDAR
VERSION:2.0
PRODID:-//Australian and New Zealand Society of Respiratory Science Ltd (ANZSRS) - ECPv6.15.11//NONSGML v1.0//EN
CALSCALE:GREGORIAN
METHOD:PUBLISH
X-WR-CALNAME:Australian and New Zealand Society of Respiratory Science Ltd (ANZSRS)
X-ORIGINAL-URL:https://anzsrs-stg.connexionpoint.com.au
X-WR-CALDESC:Events for Australian and New Zealand Society of Respiratory Science Ltd (ANZSRS)
REFRESH-INTERVAL;VALUE=DURATION:PT1H
X-Robots-Tag:noindex
X-PUBLISHED-TTL:PT1H
BEGIN:VTIMEZONE
TZID:Australia/Melbourne
BEGIN:STANDARD
TZOFFSETFROM:+1100
TZOFFSETTO:+1000
TZNAME:AEST
DTSTART:20240406T160000
END:STANDARD
BEGIN:DAYLIGHT
TZOFFSETFROM:+1000
TZOFFSETTO:+1100
TZNAME:AEDT
DTSTART:20241005T160000
END:DAYLIGHT
BEGIN:STANDARD
TZOFFSETFROM:+1100
TZOFFSETTO:+1000
TZNAME:AEST
DTSTART:20250405T160000
END:STANDARD
BEGIN:DAYLIGHT
TZOFFSETFROM:+1000
TZOFFSETTO:+1100
TZNAME:AEDT
DTSTART:20251004T160000
END:DAYLIGHT
BEGIN:STANDARD
TZOFFSETFROM:+1100
TZOFFSETTO:+1000
TZNAME:AEST
DTSTART:20260404T160000
END:STANDARD
BEGIN:DAYLIGHT
TZOFFSETFROM:+1000
TZOFFSETTO:+1100
TZNAME:AEDT
DTSTART:20261003T160000
END:DAYLIGHT
END:VTIMEZONE
BEGIN:VTIMEZONE
TZID:Australia/Brisbane
BEGIN:STANDARD
TZOFFSETFROM:+1000
TZOFFSETTO:+1000
TZNAME:AEST
DTSTART:20240101T000000
END:STANDARD
END:VTIMEZONE
BEGIN:VEVENT
DTSTART;TZID=Australia/Melbourne:20250306T180000
DTEND;TZID=Australia/Melbourne:20250306T203000
DTSTAMP:20260422T114131
CREATED:20250228T054012Z
LAST-MODIFIED:20250228T054012Z
UID:19181-1741284000-1741293000@anzsrs-stg.connexionpoint.com.au
SUMMARY:VIC/TAS March Branch Meeting
DESCRIPTION:VIC/TAS March Branch Meeting \n6th March 2025 \nStart time:6:00pm \nMeeting location and zoom details see email from Regional Chair
URL:https://anzsrs-stg.connexionpoint.com.au/event/vic-tas-march-branch-meeting/
CATEGORIES:VIC/TAS Branch Meetings
ATTACH;FMTTYPE=image/png:https://anzsrs-stg.connexionpoint.com.au/wp-content/uploads/2023/11/victoria_tasmania.png
ORGANIZER;CN="VIC/TAS Regional chairs":MAILTO:victas@anzsrs-stg.connexionpoint.com.au
END:VEVENT
BEGIN:VEVENT
DTSTART;TZID=Australia/Brisbane:20250305T173000
DTEND;TZID=Australia/Brisbane:20250305T190000
DTSTAMP:20260422T114131
CREATED:20250223T105140Z
LAST-MODIFIED:20250228T054110Z
UID:19097-1741195800-1741201200@anzsrs-stg.connexionpoint.com.au
SUMMARY:QLD Branch Meeting - 5th March 2025
DESCRIPTION:ANZSRS QLD Branch Meeting \n5th March 2025 \nMain Presentation: Carlo Myles – Mater Adults Hospital \nScientist Presentation: ASM Practice – speakers to be advised \nStart time: 5:30pm \nMeeting location and zoom details see email from Qld Regional Chair
URL:https://anzsrs-stg.connexionpoint.com.au/event/qld-branch-meeting-5th-march-2025/
CATEGORIES:QLD Branch Meetings
ATTACH;FMTTYPE=image/png:https://anzsrs-stg.connexionpoint.com.au/wp-content/uploads/2023/11/icon4.png
ORGANIZER;CN="QLD Regional Chairs":MAILTO:qld@anzsrs-stg.connexionpoint.com.au
END:VEVENT
END:VCALENDAR