BEGIN:VCALENDAR
VERSION:2.0
PRODID:-//Australian and New Zealand Society of Respiratory Science Ltd (ANZSRS) - ECPv6.15.11//NONSGML v1.0//EN
CALSCALE:GREGORIAN
METHOD:PUBLISH
X-WR-CALNAME:Australian and New Zealand Society of Respiratory Science Ltd (ANZSRS)
X-ORIGINAL-URL:https://anzsrs-stg.connexionpoint.com.au
X-WR-CALDESC:Events for Australian and New Zealand Society of Respiratory Science Ltd (ANZSRS)
REFRESH-INTERVAL;VALUE=DURATION:PT1H
X-Robots-Tag:noindex
X-PUBLISHED-TTL:PT1H
BEGIN:VTIMEZONE
TZID:Australia/Melbourne
BEGIN:STANDARD
TZOFFSETFROM:+1100
TZOFFSETTO:+1000
TZNAME:AEST
DTSTART:20240406T160000
END:STANDARD
BEGIN:DAYLIGHT
TZOFFSETFROM:+1000
TZOFFSETTO:+1100
TZNAME:AEDT
DTSTART:20241005T160000
END:DAYLIGHT
BEGIN:STANDARD
TZOFFSETFROM:+1100
TZOFFSETTO:+1000
TZNAME:AEST
DTSTART:20250405T160000
END:STANDARD
BEGIN:DAYLIGHT
TZOFFSETFROM:+1000
TZOFFSETTO:+1100
TZNAME:AEDT
DTSTART:20251004T160000
END:DAYLIGHT
BEGIN:STANDARD
TZOFFSETFROM:+1100
TZOFFSETTO:+1000
TZNAME:AEST
DTSTART:20260404T160000
END:STANDARD
BEGIN:DAYLIGHT
TZOFFSETFROM:+1000
TZOFFSETTO:+1100
TZNAME:AEDT
DTSTART:20261003T160000
END:DAYLIGHT
BEGIN:STANDARD
TZOFFSETFROM:+1100
TZOFFSETTO:+1000
TZNAME:AEST
DTSTART:20270403T160000
END:STANDARD
BEGIN:DAYLIGHT
TZOFFSETFROM:+1000
TZOFFSETTO:+1100
TZNAME:AEDT
DTSTART:20271002T160000
END:DAYLIGHT
END:VTIMEZONE
BEGIN:VTIMEZONE
TZID:Australia/Brisbane
BEGIN:STANDARD
TZOFFSETFROM:+1000
TZOFFSETTO:+1000
TZNAME:AEST
DTSTART:20240101T000000
END:STANDARD
END:VTIMEZONE
BEGIN:VEVENT
DTSTART;TZID=Australia/Melbourne:20251010T173000
DTEND;TZID=Australia/Melbourne:20251010T200000
DTSTAMP:20260422T050728
CREATED:20250228T060134Z
LAST-MODIFIED:20250228T060134Z
UID:19200-1760117400-1760126400@anzsrs-stg.connexionpoint.com.au
SUMMARY:WA Branch Meeting - October 2025
DESCRIPTION:WA October Branch Meeting \nStart time & date: TBA \nMeeting location and other information\, please see email from Regional Chair
URL:https://anzsrs-stg.connexionpoint.com.au/event/wa-branch-meeting-october-2025/
CATEGORIES:WA Branch Meetings
ATTACH;FMTTYPE=image/png:https://anzsrs-stg.connexionpoint.com.au/wp-content/uploads/2023/11/icon7.png
ORGANIZER;CN="WA Regional chairs":MAILTO:wa@anzsrs-stg.connexionpoint.com.au
END:VEVENT
BEGIN:VEVENT
DTSTART;TZID=Australia/Brisbane:20251022T173000
DTEND;TZID=Australia/Brisbane:20251022T190000
DTSTAMP:20260422T050728
CREATED:20250223T112158Z
LAST-MODIFIED:20250223T112158Z
UID:19110-1761154200-1761159600@anzsrs-stg.connexionpoint.com.au
SUMMARY:QLD Branch Meeting - 22nd October 2025
DESCRIPTION:ANZSRS QLD Branch Meeting \n22nd October 2025 \nMain Presentation: Logan \nScientist Presentation: QRS \nStart time: 5:30pm \nMeeting location and zoom details see email from Qld Regional Chair
URL:https://anzsrs-stg.connexionpoint.com.au/event/qld-branch-meeting-22nd-october-2025/
CATEGORIES:QLD Branch Meetings
ATTACH;FMTTYPE=image/png:https://anzsrs-stg.connexionpoint.com.au/wp-content/uploads/2023/11/icon4.png
ORGANIZER;CN="QLD Regional Chairs":MAILTO:qld@anzsrs-stg.connexionpoint.com.au
END:VEVENT
BEGIN:VEVENT
DTSTART;VALUE=DATE:20251031
DTEND;VALUE=DATE:20251101
DTSTAMP:20260422T050728
CREATED:20250129T061946Z
LAST-MODIFIED:20250129T061946Z
UID:19065-1761868800-1761955199@anzsrs-stg.connexionpoint.com.au
SUMMARY:CRFS Exam October 2025
DESCRIPTION:CRFS exam – Friday 31st October (applications close 3rd October) \n  \nMembers will be notified when registrations for the CRFS October exam are open. Applications and can be submitted in the ‘Member’s Portal’\, under ‘Courses & Events’ when available. \nQ&A Sessions for October Exam: \nTutorial 1: TBA \nTutorial 2: TBA \nTutorial 3: TBA \nMore details and the Zoom meeting link will become available via email soon. \nThinking about submitting a question? Please follow the format below: \nAll questions must be in the format; \n1. Topic \n2. Sub-Topic (if applicable) \n3. Question: \n4. Associated practice exam question. (Optional) \nA maximum of three questions may be submitted by any one candidate prior to each tutorial session. If a high volume of questions is received the exam coordinator will prioritise questions which have not been answered in previous tutorials. \nPlease check your email for zoom meeting details.
URL:https://anzsrs-stg.connexionpoint.com.au/event/crfs-exam-october-2025/
CATEGORIES:CRFS
ATTACH;FMTTYPE=image/png:https://anzsrs-stg.connexionpoint.com.au/wp-content/uploads/2025/01/CRFS-exam-e1738033812547.png
ORGANIZER;CN="CRFS":MAILTO:crfs@anzsrs-stg.connexionpoint.com.au
END:VEVENT
BEGIN:VEVENT
DTSTART;TZID=Australia/Melbourne:20251112T173000
DTEND;TZID=Australia/Melbourne:20251112T193000
DTSTAMP:20260422T050728
CREATED:20250330T110936Z
LAST-MODIFIED:20250330T111144Z
UID:19304-1762968600-1762975800@anzsrs-stg.connexionpoint.com.au
SUMMARY:SA/NT Branch Meeting - 12th November 2025
DESCRIPTION:SA/NT Branch Meeting – 12th November 2025 \nStart time: TBA \nMeeting location and other information\, please see email from Regional Chair
URL:https://anzsrs-stg.connexionpoint.com.au/event/sa-nt-branch-meeting-november-2025/
CATEGORIES:ANZSRS Branch Meetings
ATTACH;FMTTYPE=image/png:https://anzsrs-stg.connexionpoint.com.au/wp-content/uploads/2023/11/SAandNT.png
ORGANIZER;CN="SA/NT Regional chairs":MAILTO:sant@anzsrs-stg.connexionpoint.com.au
END:VEVENT
BEGIN:VEVENT
DTSTART;TZID=Australia/Brisbane:20251128T173000
DTEND;TZID=Australia/Brisbane:20251128T203000
DTSTAMP:20260422T050728
CREATED:20250223T112511Z
LAST-MODIFIED:20250223T112800Z
UID:19112-1764351000-1764361800@anzsrs-stg.connexionpoint.com.au
SUMMARY:QLD Branch Meeting  Christmas Party 2025
DESCRIPTION:ANZSRS QLD Branch Meeting \nChristmas Party 2025 \nFriday 28th November \nStart time: 5:30pm \nVenue & RSVP will be announce closer to the date \nSee email from Qld Regional Chair
URL:https://anzsrs-stg.connexionpoint.com.au/event/19112/
CATEGORIES:QLD Branch Meetings
ATTACH;FMTTYPE=image/png:https://anzsrs-stg.connexionpoint.com.au/wp-content/uploads/2023/11/Xmas-image.png
ORGANIZER;CN="QLD Regional Chairs":MAILTO:qld@anzsrs-stg.connexionpoint.com.au
END:VEVENT
BEGIN:VEVENT
DTSTART;TZID=Australia/Melbourne:20251205T173000
DTEND;TZID=Australia/Melbourne:20251205T210000
DTSTAMP:20260422T050728
CREATED:20250228T060317Z
LAST-MODIFIED:20250228T060448Z
UID:19202-1764955800-1764968400@anzsrs-stg.connexionpoint.com.au
SUMMARY:WA Quizmas - December 2025
DESCRIPTION:WA Quizmas \nStart time & date: TBA \nMeeting location and other information\, please see email from Regional Chair
URL:https://anzsrs-stg.connexionpoint.com.au/event/wa-quizmas-december-2025/
CATEGORIES:WA Branch Meetings
ATTACH;FMTTYPE=image/png:https://anzsrs-stg.connexionpoint.com.au/wp-content/uploads/2023/11/Xmas-image.png
ORGANIZER;CN="WA Regional chairs":MAILTO:wa@anzsrs-stg.connexionpoint.com.au
END:VEVENT
BEGIN:VEVENT
DTSTART;VALUE=DATE:20260327
DTEND;VALUE=DATE:20260401
DTSTAMP:20260422T050728
CREATED:20250810T104205Z
LAST-MODIFIED:20250810T104606Z
UID:20166-1774569600-1775001599@anzsrs-stg.connexionpoint.com.au
SUMMARY:TSANZSRS ASM 2026
DESCRIPTION:The Thoracic Society of Australia and New Zealand and the Australian and New Zealand Society of Respiratory Science invites you to join us in Perth for the TSANZSRS Annual Scientific Meeeting 27 – 31 March 2026. \nThe theme for The Thoracic Society of Australia and New Zealand 2026 Annual Scientific Meeting is: Lungs Under the Microscope. \nThe conference theme “Lungs under the microscope” delves into the intricate landscape of pulmonary science\, revealing the lung’s complexities at all levels from cellular and molecular through to daily functioning. The theme explores research ranging from the precision of nanoparticle drug delivery\, cutting-edge imaging technologies and fundamental studies of lung structure and function through to clinical application of discoveries that support improved respiratory health. By bringing together diverse disciplines\, including clinicians\, allied health professionals\, basic science and population health researchers\, this theme offers a magnified view of the lungs’ inner workings\, fostering innovation in diagnostics\, therapeutics\, and the translation of innovation into tangible improvements for respiratory health. \nThe theme for the Australian and New Zealand Society of Respiratory Science 2026 Annual Scientific meeting is: Breathing Through the Ages: From Infancy to Late Adulthood. \nThis theme will explore lung health across the lifespan\, examining how lung function changes in response to ageing\, environment\, and respiratory disease. \nTSANZSRS ASM 2026 – Home
URL:https://anzsrs-stg.connexionpoint.com.au/event/tsanzsrs-asm-2026/
LOCATION:Perth Convetion and Exhibition Centre\, Perth\, Australia
CATEGORIES:TSANZ
ATTACH;FMTTYPE=image/jpeg:https://anzsrs-stg.connexionpoint.com.au/wp-content/uploads/2025/08/thumbnail_2026-ASM.jpg
ORGANIZER;CN="ANZSRS":MAILTO:info@anzsrs-stg.connexionpoint.com.au
END:VEVENT
END:VCALENDAR