BEGIN:VCALENDAR
VERSION:2.0
PRODID:-//Australian and New Zealand Society of Respiratory Science Ltd (ANZSRS) - ECPv6.15.11//NONSGML v1.0//EN
CALSCALE:GREGORIAN
METHOD:PUBLISH
X-WR-CALNAME:Australian and New Zealand Society of Respiratory Science Ltd (ANZSRS)
X-ORIGINAL-URL:https://anzsrs-stg.connexionpoint.com.au
X-WR-CALDESC:Events for Australian and New Zealand Society of Respiratory Science Ltd (ANZSRS)
REFRESH-INTERVAL;VALUE=DURATION:PT1H
X-Robots-Tag:noindex
X-PUBLISHED-TTL:PT1H
BEGIN:VTIMEZONE
TZID:Australia/Melbourne
BEGIN:STANDARD
TZOFFSETFROM:+1100
TZOFFSETTO:+1000
TZNAME:AEST
DTSTART:20240406T160000
END:STANDARD
BEGIN:DAYLIGHT
TZOFFSETFROM:+1000
TZOFFSETTO:+1100
TZNAME:AEDT
DTSTART:20241005T160000
END:DAYLIGHT
BEGIN:STANDARD
TZOFFSETFROM:+1100
TZOFFSETTO:+1000
TZNAME:AEST
DTSTART:20250405T160000
END:STANDARD
BEGIN:DAYLIGHT
TZOFFSETFROM:+1000
TZOFFSETTO:+1100
TZNAME:AEDT
DTSTART:20251004T160000
END:DAYLIGHT
BEGIN:STANDARD
TZOFFSETFROM:+1100
TZOFFSETTO:+1000
TZNAME:AEST
DTSTART:20260404T160000
END:STANDARD
BEGIN:DAYLIGHT
TZOFFSETFROM:+1000
TZOFFSETTO:+1100
TZNAME:AEDT
DTSTART:20261003T160000
END:DAYLIGHT
END:VTIMEZONE
BEGIN:VEVENT
DTSTART;VALUE=DATE:20250502
DTEND;VALUE=DATE:20250503
DTSTAMP:20260424T033015
CREATED:20250129T060601Z
LAST-MODIFIED:20250129T062049Z
UID:19058-1746144000-1746230399@anzsrs-stg.connexionpoint.com.au
SUMMARY:CRFS Exam May 2025
DESCRIPTION:CRFS exam – Friday 2nd May (applications close 6th April) \n  \nRegistrations for the CRFS May exam are now open and can be submitted in the ‘Member’s Portal’\, under ‘Courses & Events’ when available. \nQ&A Sessions for May Exam: \nTutorial 1: 21st February \nTutorial 2: 28th March \nTutorial 3: 11th April \nMore details and the Zoom meeting link will become available via email soon. \nThinking about submitting a question? Please follow the format below: \nAll questions must be in the format; \n1. Topic \n2. Sub-Topic (if applicable) \n3. Question: \n4. Associated practice exam question. (Optional) \nA maximum of three questions may be submitted by any one candidate prior to each tutorial session. If a high volume of questions is received the exam coordinator will prioritise questions which have not been answered in previous tutorials. \nPlease check your email for zoom meeting details.
URL:https://anzsrs-stg.connexionpoint.com.au/event/crfs-exam-may-2025/
CATEGORIES:CRFS
ATTACH;FMTTYPE=image/png:https://anzsrs-stg.connexionpoint.com.au/wp-content/uploads/2025/01/CRFS-exam-e1738033812547.png
ORGANIZER;CN="CRFS":MAILTO:crfs@anzsrs-stg.connexionpoint.com.au
END:VEVENT
END:VCALENDAR